Package: Structstrings
Version: 1.10.0
Command: /Library/Frameworks/R.framework/Resources/bin/R CMD INSTALL Structstrings
StartedAt: 2022-04-12 03:22:52 -0400 (Tue, 12 Apr 2022)
EndedAt: 2022-04-12 03:23:23 -0400 (Tue, 12 Apr 2022)
EllapsedTime: 31.1 seconds
RetCode: 0
Status: OK