Package: ReactomeGSA
Version: 1.8.0
Command: /home/biocbuild/bbs-3.14-bioc/R/bin/R CMD INSTALL ReactomeGSA
StartedAt: 2022-04-12 03:29:13 -0400 (Tue, 12 Apr 2022)
EndedAt: 2022-04-12 03:29:18 -0400 (Tue, 12 Apr 2022)
EllapsedTime: 5.7 seconds
RetCode: 0
Status: OK