Package: NanoStringNCTools
Version: 1.2.0
Command: /home/biocbuild/bbs-3.14-bioc/R/bin/R CMD INSTALL NanoStringNCTools
StartedAt: 2022-04-12 03:33:02 -0400 (Tue, 12 Apr 2022)
EndedAt: 2022-04-12 03:33:20 -0400 (Tue, 12 Apr 2022)
EllapsedTime: 18.1 seconds
RetCode: 0
Status: OK