Package: Modstrings
Version: 1.10.0
Command: /Library/Frameworks/R.framework/Resources/bin/R CMD build --keep-empty-dirs --no-resave-data Modstrings
StartedAt: 2022-04-12 07:13:49 -0400 (Tue, 12 Apr 2022)
EndedAt: 2022-04-12 07:14:55 -0400 (Tue, 12 Apr 2022)
EllapsedTime: 66.0 seconds
RetCode: 0
Status: OK
PackageFile: Modstrings_1.10.0.tar.gz
PackageFileSize: 809.2 <A href="http://en.wikipedia.org/wiki/KiB" target="_blank">KiB</A>