git_url: https://git.bioconductor.org/packages/Modstrings
git_branch: RELEASE_3_14
git_last_commit: 88e7263
git_last_commit_date: 2021-10-26 12:49:56 -0400 (Tue, 26 Oct 2021)
Package: Modstrings
Version: 1.10.0
Maintainer: Felix G.M. Ernst
MaintainerEmail: felix.gm.ernst at outlook.com