git_url: https://git.bioconductor.org/packages/GEOsubmission
git_branch: RELEASE_3_14
git_last_commit: 6984223
git_last_commit_date: 2021-10-26 11:56:05 -0400 (Tue, 26 Oct 2021)
Package: GEOsubmission
Version: 1.46.0
Maintainer: Alexandre Kuhn
MaintainerEmail: alexandre.m.kuhn at gmail.com