Package: DelayedRandomArray
Version: 1.2.0
Command: /home/biocbuild/bbs-3.14-bioc/R/bin/R CMD build --keep-empty-dirs --no-resave-data DelayedRandomArray
StartedAt: 2022-04-12 04:21:30 -0400 (Tue, 12 Apr 2022)
EndedAt: 2022-04-12 04:22:07 -0400 (Tue, 12 Apr 2022)
EllapsedTime: 37.5 seconds
RetCode: 0
Status: OK
PackageFile: DelayedRandomArray_1.2.0.tar.gz
PackageFileSize: 303.8 <A href="http://en.wikipedia.org/wiki/KiB" target="_blank">KiB</A>