Package: DelayedMatrixStats
Version: 1.16.0
Command: /home/biocbuild/bbs-3.14-bioc/R/bin/R CMD build --keep-empty-dirs --no-resave-data DelayedMatrixStats
StartedAt: 2022-04-12 04:21:28 -0400 (Tue, 12 Apr 2022)
EndedAt: 2022-04-12 04:24:26 -0400 (Tue, 12 Apr 2022)
EllapsedTime: 178.4 seconds
RetCode: 0
Status: OK
PackageFile: DelayedMatrixStats_1.16.0.tar.gz
PackageFileSize: 269.8 <A href="http://en.wikipedia.org/wiki/KiB" target="_blank">KiB</A>