Package: ConsensusClusterPlus
Version: 1.58.0
Command: /home/biocbuild/bbs-3.14-bioc/R/bin/R CMD INSTALL ConsensusClusterPlus
StartedAt: 2022-04-12 03:15:09 -0400 (Tue, 12 Apr 2022)
EndedAt: 2022-04-12 03:15:15 -0400 (Tue, 12 Apr 2022)
EllapsedTime: 6.3 seconds
RetCode: 0
Status: OK