Package: preciseTADhub
Version: 1.0.0
Command: /home/biocbuild/bbs-3.13-bioc/R/bin/R CMD build --keep-empty-dirs --no-resave-data preciseTADhub
StartedAt: 2021-10-16 12:27:04 -0400 (Sat, 16 Oct 2021)
EndedAt: 2021-10-16 12:29:14 -0400 (Sat, 16 Oct 2021)
EllapsedTime: 129.7 seconds
RetCode: 0
Status: OK
PackageFile: preciseTADhub_1.0.0.tar.gz
PackageFileSize: 228.8 <A href="http://en.wikipedia.org/wiki/KiB" target="_blank">KiB</A>