git_url: https://git.bioconductor.org/packages/microbiomeDataSets
git_branch: RELEASE_3_13
git_last_commit: c24e263
git_last_commit_date: 2021-07-24 12:19:12 -0400 (Sat, 24 Jul 2021)
Package: microbiomeDataSets
Version: 1.0.1
Maintainer: Leo Lahti
MaintainerEmail: leo.lahti at utu.fi