git_url: https://git.bioconductor.org/packages/hapmap500ksty
git_branch: RELEASE_3_13
git_last_commit: 696b758
git_last_commit_date: 2021-05-19 11:27:08 -0400 (Wed, 19 May 2021)
Package: hapmap500ksty
Version: 1.34.0
Maintainer: Benilton Carvalho
MaintainerEmail: Benilton.Carvalho at cancer.org.uk