git_url: https://git.bioconductor.org/packages/hapmap500knsp
git_branch: RELEASE_3_13
git_last_commit: b7e2fea
git_last_commit_date: 2021-05-19 11:26:59 -0400 (Wed, 19 May 2021)
Package: hapmap500knsp
Version: 1.34.0
Maintainer: Benilton Carvalho
MaintainerEmail: Benilton.Carvalho at cancer.org.uk