Package: clustifyrdatahub
Version: 1.2.0
Command: /home/biocbuild/bbs-3.13-bioc/R/bin/R CMD build --keep-empty-dirs --no-resave-data clustifyrdatahub
StartedAt: 2021-10-16 11:38:55 -0400 (Sat, 16 Oct 2021)
EndedAt: 2021-10-16 11:39:48 -0400 (Sat, 16 Oct 2021)
EllapsedTime: 53.3 seconds
RetCode: 0
Status: OK
PackageFile: clustifyrdatahub_1.2.0.tar.gz
PackageFileSize: 284.8 <A href="http://en.wikipedia.org/wiki/KiB" target="_blank">KiB</A>