Package: biotmleData Version: 1.16.0 Command: /home/biocbuild/bbs-3.13-bioc/R/bin/R CMD build --keep-empty-dirs --no-resave-data biotmleData StartedAt: 2021-10-16 11:29:28 -0400 (Sat, 16 Oct 2021) EndedAt: 2021-10-16 11:29:31 -0400 (Sat, 16 Oct 2021) EllapsedTime: 3.0 seconds RetCode: 0 Status: OK PackageFile: biotmleData_1.16.0.tar.gz PackageFileSize: 30.87 MiB