git_url: https://git.bioconductor.org/packages/RGMQLlib
git_branch: RELEASE_3_13
git_last_commit: 49814de
git_last_commit_date: 2021-05-19 12:02:47 -0400 (Wed, 19 May 2021)
Package: RGMQLlib
Version: 1.12.0
Maintainer: Simone Pallotta
MaintainerEmail: simonepallotta at hotmail.com