Package: PathNetData
Version: 1.28.0
Command: /home/biocbuild/bbs-3.13-bioc/R/bin/R CMD build --keep-empty-dirs --no-resave-data PathNetData
StartedAt: 2021-10-16 12:26:01 -0400 (Sat, 16 Oct 2021)
EndedAt: 2021-10-16 12:26:03 -0400 (Sat, 16 Oct 2021)
EllapsedTime: 2.0 seconds
RetCode: 0
Status: OK
PackageFile: PathNetData_1.28.0.tar.gz
PackageFileSize: 2.427 <A href="http://en.wikipedia.org/wiki/MiB" target="_blank">MiB</A>