Package: GSBenchMark
Version: 1.12.0
Command: /home/biocbuild/bbs-3.13-bioc/R/bin/R CMD INSTALL GSBenchMark
StartedAt: 2021-10-16 11:04:38 -0400 (Sat, 16 Oct 2021)
EndedAt: 2021-10-16 11:04:44 -0400 (Sat, 16 Oct 2021)
EllapsedTime: 5.8 seconds
RetCode: 0
Status: OK