Package: ChIPexoQualExample
Version: 1.16.1
Command: /home/biocbuild/bbs-3.13-bioc/R/bin/R CMD INSTALL ChIPexoQualExample
StartedAt: 2021-10-16 11:04:18 -0400 (Sat, 16 Oct 2021)
EndedAt: 2021-10-16 11:04:24 -0400 (Sat, 16 Oct 2021)
EllapsedTime: 6.3 seconds
RetCode: 0
Status: OK