Package: CellMapperData
Version: 1.18.0
Command: /home/biocbuild/bbs-3.13-bioc/R/bin/R CMD build --keep-empty-dirs --no-resave-data CellMapperData
StartedAt: 2021-10-16 11:34:54 -0400 (Sat, 16 Oct 2021)
EndedAt: 2021-10-16 11:35:20 -0400 (Sat, 16 Oct 2021)
EllapsedTime: 25.7 seconds
RetCode: 0
Status: OK
PackageFile: CellMapperData_1.18.0.tar.gz
PackageFileSize: 140.9 <A href="http://en.wikipedia.org/wiki/KiB" target="_blank">KiB</A>