git_url: https://git.bioconductor.org/packages/CRCL18
git_branch: RELEASE_3_13
git_last_commit: b04c101
git_last_commit_date: 2021-05-19 11:47:59 -0400 (Wed, 19 May 2021)
Package: CRCL18
Version: 1.12.0
Maintainer: Claudio Isella
MaintainerEmail: claudio.isella at ircc.it