Package: diffcyt
Version: 1.12.0
Command: /Library/Frameworks/R.framework/Versions/Current/Resources/bin/R CMD build --keep-empty-dirs --no-resave-data diffcyt
StartedAt: 2021-10-14 11:43:39 -0400 (Thu, 14 Oct 2021)
EndedAt: 2021-10-14 11:45:55 -0400 (Thu, 14 Oct 2021)
EllapsedTime: 135.5 seconds
RetCode: 0
Status: OK
PackageFile: diffcyt_1.12.0.tar.gz
PackageFileSize: 771.1 <A href="http://en.wikipedia.org/wiki/KiB" target="_blank">KiB</A>