Package: VCFArray
Version: 1.8.0
Command: /home/biocbuild/bbs-3.13-bioc/R/bin/R CMD INSTALL VCFArray
StartedAt: 2021-10-14 06:26:23 -0400 (Thu, 14 Oct 2021)
EndedAt: 2021-10-14 06:27:00 -0400 (Thu, 14 Oct 2021)
EllapsedTime: 37.4 seconds
RetCode: 0
Status: OK