Package: ReactomeContentService4R
Version: 1.0.0
Command: /home/biocbuild/bbs-3.13-bioc/R/bin/R CMD INSTALL ReactomeContentService4R
StartedAt: 2021-10-14 06:04:06 -0400 (Thu, 14 Oct 2021)
EndedAt: 2021-10-14 06:04:20 -0400 (Thu, 14 Oct 2021)
EllapsedTime: 13.5 seconds
RetCode: 0
Status: OK