git_url: https://git.bioconductor.org/packages/MutationalPatterns
git_branch: RELEASE_3_13
git_last_commit: 80fd57a
git_last_commit_date: 2021-05-19 12:23:54 -0400 (Wed, 19 May 2021)
Package: MutationalPatterns
Version: 3.2.0
Maintainer: Rurika Oka
MaintainerEmail: R.Oka at prinsesmaximacentrum.nl