Package: Modstrings
Version: 1.8.0
Command: /Library/Frameworks/R.framework/Versions/Current/Resources/bin/R CMD INSTALL Modstrings
StartedAt: 2021-10-14 08:44:14 -0400 (Thu, 14 Oct 2021)
EndedAt: 2021-10-14 08:45:03 -0400 (Thu, 14 Oct 2021)
EllapsedTime: 48.9 seconds
RetCode: 0
Status: OK