Package: MACSQuantifyR Version: 1.6.0 Command: /Library/Frameworks/R.framework/Versions/Current/Resources/bin/R CMD INSTALL MACSQuantifyR StartedAt: 2021-10-14 09:18:42 -0400 (Thu, 14 Oct 2021) EndedAt: 2021-10-14 09:19:43 -0400 (Thu, 14 Oct 2021) EllapsedTime: 60.7 seconds RetCode: 0 Status: OK