Package: MACSQuantifyR
Version: 1.6.0
Command: rm -rf MACSQuantifyR.buildbin-libdir && mkdir MACSQuantifyR.buildbin-libdir && /Users/biocbuild/BBS/utils/build-universal.sh MACSQuantifyR_1.6.0.tar.gz /Library/Frameworks/R.framework/Versions/Current/Resources/bin/R MACSQuantifyR.buildbin-libdir
StartedAt: 2021-10-15 02:56:35 -0400 (Fri, 15 Oct 2021)
EndedAt: 2021-10-15 02:57:33 -0400 (Fri, 15 Oct 2021)
EllapsedTime: 58.6 seconds
RetCode: 0
Status: OK
PackageFile: MACSQuantifyR_1.6.0.tgz
PackageFileSize: 3.779 <A href="http://en.wikipedia.org/wiki/MiB" target="_blank">MiB</A>