This page was generated on 2021-05-06 14:10:16 -0400 (Thu, 06 May 2021).
|
Hostname | OS | Arch (*) | Platform label (**) | R version | Installed pkgs |
---|---|---|---|---|---|
malbec1 | Linux (Ubuntu 18.04.5 LTS) | x86_64 | x86_64-linux-gnu | 4.0.5 (2021-03-31) -- "Shake and Throw" | 4017 |
Click on any hostname to see more info about the system (e.g. compilers) (*) as reported by 'uname -p', except on Windows and Mac OS X (**) as reported by 'gcc -v' |
A |
QUICK STATS | OS / Arch | INSTALL | BUILD | CHECK | |||||||||||||||||||||||||||||||
malbec1 | Linux (Ubuntu 18.04.5 LTS) / x86_64 |
|
|
| |||||||||||||||||||||||||||||||
|
| ||||||||||||||||||||||||||||||||||
Package | Maintainer | INSTALL | BUILD | CHECK | |||||||||||||||||||||||||||||||
1/398 | ABAData 1.20.0 (landing page) | Steffi Grote | OK | OK | OK | ![]() | |||||||||||||||||||||||||||||
2/398 | adductData 1.6.0 (landing page) | Josie Hayes | OK | OK | OK | ![]() | |||||||||||||||||||||||||||||
3/398 | affycompData 1.28.0 (landing page) | Harris Jaffee | OK | OK | OK | ![]() | |||||||||||||||||||||||||||||
4/398 | affydata 1.38.0 (landing page) | Harris Jaffee | OK | OK | WARNINGS | ![]() | |||||||||||||||||||||||||||||
5/398 | Affyhgu133A2Expr 1.26.0 (landing page) | Zhicheng Ji | OK | OK | OK | ![]() | |||||||||||||||||||||||||||||
6/398 | Affyhgu133aExpr 1.28.0 (landing page) | Zhicheng Ji | OK | OK | OK | ![]() | |||||||||||||||||||||||||||||
7/398 | Affyhgu133Plus2Expr 1.24.0 (landing page) | Zhicheng Ji | OK | OK | OK | ![]() | |||||||||||||||||||||||||||||
8/398 | AffymetrixDataTestFiles 0.28.0 (landing page) | Henrik Bengtsson | OK | OK | OK | ![]() | |||||||||||||||||||||||||||||
9/398 | Affymoe4302Expr 1.28.0 (landing page) | Zhicheng Ji | OK | OK | OK | ![]() | |||||||||||||||||||||||||||||
10/398 | airway 1.10.0 (landing page) | Michael Love | OK | OK | WARNINGS | ![]() | |||||||||||||||||||||||||||||
11/398 | ALL 1.32.0 (landing page) | Robert Gentleman | OK | OK | OK | ![]() | |||||||||||||||||||||||||||||
12/398 | ALLMLL 1.30.0 (landing page) | B. M. Bolstad | OK | OK | OK | ![]() | |||||||||||||||||||||||||||||
13/398 | alpineData 1.16.0 (landing page) | Michael Love | OK | OK | OK | ![]() | |||||||||||||||||||||||||||||
14/398 | AmpAffyExample 1.30.0 (landing page) | Rafael A. Irizarry | OK | OK | WARNINGS | ![]() | |||||||||||||||||||||||||||||
15/398 | AneuFinderData 1.18.0 (landing page) | Aaron Taudt | OK | OK | WARNINGS | ![]() | |||||||||||||||||||||||||||||
16/398 | antiProfilesData 1.26.0 (landing page) | Hector Corrada Bravo | OK | OK | OK | ![]() | |||||||||||||||||||||||||||||
17/398 | aracne.networks 1.16.0 (landing page) | Federico M. Giorgi | OK | OK | WARNINGS | ![]() | |||||||||||||||||||||||||||||
18/398 | ARRmData 1.26.0 (landing page) | Jean-Philippe Fortin | OK | OK | OK | ![]() | |||||||||||||||||||||||||||||
19/398 | AshkenazimSonChr21 1.20.0 (landing page) | Who to complain to | OK | OK | OK | ![]() | |||||||||||||||||||||||||||||
20/398 | ASICSdata 1.10.0 (landing page) | Gaƫlle Lefort | OK | OK | OK | ![]() | |||||||||||||||||||||||||||||
21/398 | AssessORFData 1.8.0 (landing page) | Deepank Korandla | OK | OK | OK | ![]() | |||||||||||||||||||||||||||||
|
| ||||||||||||||||||||||||||||||||||
Package | Maintainer | INSTALL | BUILD | CHECK | |||||||||||||||||||||||||||||||
22/398 | bcellViper 1.26.0 (landing page) | Mariano Javier Alvarez | OK | OK | OK | ![]() | |||||||||||||||||||||||||||||
23/398 | beadarrayExampleData 1.28.0 (landing page) | Mark Dunning | OK | OK | OK | ![]() | |||||||||||||||||||||||||||||
24/398 | BeadArrayUseCases 1.28.0 (landing page) | Mike Smith | OK | OK | OK | ![]() | |||||||||||||||||||||||||||||
25/398 | benchmarkfdrData2019 1.4.0 (landing page) | Stephanie Hicks | OK | OK | OK | ![]() | |||||||||||||||||||||||||||||
26/398 | beta7 1.28.0 (landing page) | Jean Yang | OK | OK | WARNINGS | ![]() | |||||||||||||||||||||||||||||
27/398 | biotmleData 1.14.0 (landing page) | Nima Hejazi | OK | OK | OK | ![]() | |||||||||||||||||||||||||||||
28/398 | biscuiteerData 1.4.0 (landing page) | "Jacob Morrison" | OK | OK | OK | ![]() | |||||||||||||||||||||||||||||
29/398 | bladderbatch 1.28.0 (landing page) | Jeffrey T. Leek | OK | OK | WARNINGS | ![]() | |||||||||||||||||||||||||||||
30/398 | blimaTestingData 1.10.0 (landing page) | Vojtech Kulvait | OK | OK | OK | ![]() | |||||||||||||||||||||||||||||
31/398 | BloodCancerMultiOmics2017 1.10.0 (landing page) | Malgorzata Oles | OK | OK | OK | ![]() | |||||||||||||||||||||||||||||
32/398 | bodymapRat 1.6.0 (landing page) | Stephanie Hicks | OK | OK | OK | ![]() | |||||||||||||||||||||||||||||
33/398 | brainImageRdata 1.8.0 (landing page) | Sara Linker | OK | OK | OK | ![]() | |||||||||||||||||||||||||||||
34/398 | breakpointRdata 1.8.0 (landing page) | David Porubsky | OK | OK | OK | ![]() | |||||||||||||||||||||||||||||
35/398 | breastCancerMAINZ 1.28.0 (landing page) | Markus Schroeder | OK | OK | WARNINGS | ![]() | |||||||||||||||||||||||||||||
36/398 | breastCancerNKI 1.28.0 (landing page) | Markus Schroeder | OK | OK | WARNINGS | ![]() | |||||||||||||||||||||||||||||
37/398 | breastCancerTRANSBIG 1.28.0 (landing page) | Markus Schroeder | OK | OK | WARNINGS | ![]() | |||||||||||||||||||||||||||||
38/398 | breastCancerUNT 1.28.0 (landing page) | Markus Schroeder | OK | OK | WARNINGS | ![]() | |||||||||||||||||||||||||||||
39/398 | breastCancerUPP 1.28.0 (landing page) | Markus Schroeder | OK | OK | WARNINGS | ![]() | |||||||||||||||||||||||||||||
40/398 | breastCancerVDX 1.28.0 (landing page) | Markus Schroeder | OK | OK | WARNINGS | ![]() | |||||||||||||||||||||||||||||
41/398 | brgedata 1.12.0 (landing page) | Carlos Ruiz-Arenas | OK | OK | WARNINGS | ![]() | |||||||||||||||||||||||||||||
42/398 | bronchialIL13 1.28.0 (landing page) | Vince Carey | OK | OK | OK | ![]() | |||||||||||||||||||||||||||||
43/398 | bsseqData 0.28.0 (landing page) | Kasper Daniel Hansen | OK | OK | OK | ![]() | |||||||||||||||||||||||||||||
|
| ||||||||||||||||||||||||||||||||||
Package | Maintainer | INSTALL | BUILD | CHECK | |||||||||||||||||||||||||||||||
44/398 | cancerdata 1.28.0 (landing page) | Daniel Kosztyla | OK | OK | OK | ![]() | |||||||||||||||||||||||||||||
45/398 | CardinalWorkflows 1.22.0 (landing page) | Kylie A. Bemis | OK | OK | OK | ![]() | |||||||||||||||||||||||||||||
46/398 | ccdata 1.16.0 (landing page) | Alex Pickering | OK | OK | WARNINGS | ![]() | |||||||||||||||||||||||||||||
47/398 | CCl4 1.28.0 (landing page) | Audrey Kauffmann | OK | OK | WARNINGS | ![]() | |||||||||||||||||||||||||||||
48/398 | ccTutorial 1.28.0 (landing page) | Joern Toedling | OK | OK | OK | ![]() | |||||||||||||||||||||||||||||
49/398 | celarefData 1.8.0 (landing page) | Sarah Williams | OK | OK | OK | ![]() | |||||||||||||||||||||||||||||
50/398 | celldex 1.0.0 (landing page) | Aaron Lun | OK | OK | OK | ![]() | |||||||||||||||||||||||||||||
51/398 | CellMapperData 1.16.0 (landing page) | Brad Nelms | OK | OK | OK | ![]() | |||||||||||||||||||||||||||||
52/398 | ceu1kg 0.28.0 (landing page) | VJ Carey | OK | OK | WARNINGS | ![]() | |||||||||||||||||||||||||||||
53/398 | ceu1kgv 0.32.0 (landing page) | VJ Carey | OK | OK | WARNINGS | ![]() | |||||||||||||||||||||||||||||
54/398 | ceuhm3 0.28.0 (landing page) | VJ Carey | OK | OK | WARNINGS | ![]() | |||||||||||||||||||||||||||||
55/398 | cgdv17 0.28.0 (landing page) | VJ Carey | OK | OK | OK | ![]() | |||||||||||||||||||||||||||||
56/398 | ChAMPdata 2.22.0 (landing page) | Yuan Tian | OK | OK | OK | ![]() | |||||||||||||||||||||||||||||
57/398 | ChIC.data 1.10.0 (landing page) | Carmen Maria Livi | OK | OK | OK | ![]() | |||||||||||||||||||||||||||||
58/398 | ChimpHumanBrainData 1.28.0 (landing page) | Sean Davis | OK | OK | OK | ![]() | |||||||||||||||||||||||||||||
59/398 | chipenrich.data 2.14.0 (landing page) | Raymond G. Cavalcante | OK | OK | OK | ![]() | |||||||||||||||||||||||||||||
60/398 | ChIPexoQualExample 1.14.0 (landing page) | Rene Welch | OK | OK | OK | ![]() | |||||||||||||||||||||||||||||
61/398 | chipseqDBData 1.6.0 (landing page) | Aaron Lun | OK | OK | OK | ![]() | |||||||||||||||||||||||||||||
62/398 | ChIPXpressData 1.28.0 (landing page) | George Wu | OK | OK | WARNINGS | ![]() | |||||||||||||||||||||||||||||
63/398 | chromstaRData 1.16.0 (landing page) | Aaron Taudt | OK | OK | OK | ![]() | |||||||||||||||||||||||||||||
64/398 | CLL 1.30.0 (landing page) | Robert Gentleman | OK | OK | OK | ![]() | |||||||||||||||||||||||||||||
65/398 | CLLmethylation 1.10.0 (landing page) | Malgorzata Oles | OK | OK | OK | ![]() | |||||||||||||||||||||||||||||
66/398 | CluMSIDdata 1.6.0 (landing page) | Tobias Depke | OK | OK | OK | ![]() | |||||||||||||||||||||||||||||
67/398 | clustifyrdatahub 1.0.0 (landing page) | Rui Fu | OK | OK | OK | ![]() | |||||||||||||||||||||||||||||
68/398 | cMap2data 1.26.0 (landing page) | J. Saez-Rodriguez | OK | OK | OK | ![]() | |||||||||||||||||||||||||||||
69/398 | cnvGSAdata 1.26.0 (landing page) | Joseph Lugo | OK | OK | WARNINGS | ![]() | |||||||||||||||||||||||||||||
70/398 | COHCAPanno 1.26.0 (landing page) | Charles Warden | OK | OK | OK | ![]() | |||||||||||||||||||||||||||||
71/398 | colonCA 1.32.0 (landing page) | W Sylvia Merk | OK | OK | WARNINGS | ![]() | |||||||||||||||||||||||||||||
72/398 | CONFESSdata 1.18.0 (landing page) | Diana LOW | OK | OK | OK | ![]() | |||||||||||||||||||||||||||||
73/398 | ConnectivityMap 1.26.0 (landing page) | Paul Shannon | OK | OK | OK | ![]() | |||||||||||||||||||||||||||||
74/398 | COPDSexualDimorphism.data 1.26.0 (landing page) | J Fah Sathirapongsasuti | OK | OK | WARNINGS | ![]() | |||||||||||||||||||||||||||||
75/398 | CopyhelpeR 1.22.0 (landing page) | Oscar Krijgsman | OK | OK | OK | ![]() | |||||||||||||||||||||||||||||
76/398 | CopyNeutralIMA 1.8.0 (landing page) | Xavier Pastor Hostench | OK | OK | OK | ![]() | |||||||||||||||||||||||||||||
77/398 | COSMIC.67 1.26.0 (landing page) | Julian Gehring | OK | OK | OK | ![]() | |||||||||||||||||||||||||||||
78/398 | CRCL18 1.10.0 (landing page) | Claudio Isella | OK | OK | OK | ![]() | |||||||||||||||||||||||||||||
79/398 | curatedAdipoArray 1.2.0 (landing page) | Mahmoud Ahmed | OK | OK | OK | ![]() | |||||||||||||||||||||||||||||
80/398 | curatedAdipoChIP 1.6.0 (landing page) | Mahmoud Ahmed | OK | OK | OK | ![]() | |||||||||||||||||||||||||||||
81/398 | curatedAdipoRNA 1.6.0 (landing page) | Mahmoud Ahmed | OK | OK | OK | ![]() | |||||||||||||||||||||||||||||
82/398 | curatedBladderData 1.26.0 (landing page) | Markus Riester | OK | OK | OK | ![]() | |||||||||||||||||||||||||||||
83/398 | curatedBreastData 2.18.0 (landing page) | Katie Planey | OK | OK | OK | ![]() | |||||||||||||||||||||||||||||
84/398 | curatedCRCData 2.22.0 (landing page) | Princy Parsana | OK | OK | OK | ![]() | |||||||||||||||||||||||||||||
85/398 | curatedMetagenomicData 1.20.0 (landing page) | Lucas Schiffer | OK | OK | OK | ![]() | |||||||||||||||||||||||||||||
86/398 | curatedOvarianData 1.28.0 (landing page) | Levi Waldron | OK | OK | OK | ![]() | |||||||||||||||||||||||||||||
87/398 | curatedTCGAData 1.12.1 (landing page) | Marcel Ramos | OK | OK | OK | ![]() | |||||||||||||||||||||||||||||
|
| ||||||||||||||||||||||||||||||||||
Package | Maintainer | INSTALL | BUILD | CHECK | |||||||||||||||||||||||||||||||
88/398 | DAPARdata 1.20.1 (landing page) | Samuel Wieczorek | OK | OK | WARNINGS | ![]() | |||||||||||||||||||||||||||||
89/398 | davidTiling 1.30.0 (landing page) | Wolfgang Huber | OK | OK | WARNINGS | ![]() | |||||||||||||||||||||||||||||
90/398 | depmap 1.4.0 (landing page) | Laurent Gatto | OK | OK | OK | ![]() | |||||||||||||||||||||||||||||
91/398 | derfinderData 2.8.1 (landing page) | Leonardo Collado-Torres | OK | OK | OK | ![]() | |||||||||||||||||||||||||||||
92/398 | DeSousa2013 1.26.0 (landing page) | Xin Wang | OK | OK | OK | ![]() | |||||||||||||||||||||||||||||
93/398 | diffloopdata 1.18.0 (landing page) | Caleb Lareau | OK | OK | OK | ![]() | |||||||||||||||||||||||||||||
94/398 | diggitdata 1.22.0 (landing page) | Mariano Javier Alvarez | OK | OK | OK | ![]() | |||||||||||||||||||||||||||||
95/398 | DLBCL 1.30.0 (landing page) | Marcus Dittrich | OK | OK | WARNINGS | ![]() | |||||||||||||||||||||||||||||
96/398 | DmelSGI 1.22.1 (landing page) | Mike Smith | OK | OK | OK | ![]() | |||||||||||||||||||||||||||||
97/398 | DMRcatedata 2.8.2 (landing page) | Tim Peters | OK | OK | OK | ![]() | |||||||||||||||||||||||||||||
98/398 | DonaPLLP2013 1.28.0 (landing page) | Joseph D. Barry | OK | OK | OK | ![]() | |||||||||||||||||||||||||||||
99/398 | dorothea 1.2.2 (landing page) | Christian H. Holland | OK | ERROR | skipped | ||||||||||||||||||||||||||||||
100/398 | DREAM4 1.26.0 (landing page) | Paul Shannon | OK | OK | WARNINGS | ![]() | |||||||||||||||||||||||||||||
101/398 | dressCheck 0.28.0 (landing page) | Vincent Carey | OK | OK | OK | ![]() | |||||||||||||||||||||||||||||
102/398 | DropletTestFiles 1.0.0 (landing page) | Aaron Lun | OK | OK | OK | ![]() | |||||||||||||||||||||||||||||
103/398 | DrugVsDiseasedata 1.26.0 (landing page) | J. Saez-Rodriguez | OK | OK | OK | ![]() | |||||||||||||||||||||||||||||
104/398 | dsQTL 0.28.0 (landing page) | VJ Carey | OK | OK | WARNINGS | ![]() | |||||||||||||||||||||||||||||
105/398 | DuoClustering2018 1.8.0 (landing page) | Angelo Duò | OK | OK | OK | ![]() | |||||||||||||||||||||||||||||
106/398 | DvDdata 1.26.0 (landing page) | J. Saez-Rodriguez | OK | OK | OK | ![]() | |||||||||||||||||||||||||||||
107/398 | dyebiasexamples 1.30.0 (landing page) | Philip Lijnzaad | OK | OK | WARNINGS | ![]() | |||||||||||||||||||||||||||||
|
| ||||||||||||||||||||||||||||||||||
Package | Maintainer | INSTALL | BUILD | CHECK | |||||||||||||||||||||||||||||||
108/398 | EatonEtAlChIPseq 0.28.0 (landing page) | Patrick Aboyoun | OK | OK | WARNINGS | ![]() | |||||||||||||||||||||||||||||
109/398 | ecoliLeucine 1.30.0 (landing page) | Laurent Gautier | OK | OK | WARNINGS | ![]() | |||||||||||||||||||||||||||||
110/398 | EGSEAdata 1.18.0 (landing page) | Monther Alhamdoosh | OK | OK | OK | ![]() | |||||||||||||||||||||||||||||
111/398 | ELMER.data 2.14.0 (landing page) | Tiago Chedraoui Silva | OK | OK | OK | ![]() | |||||||||||||||||||||||||||||
112/398 | estrogen 1.36.0 (landing page) | Wolfgang Huber | OK | OK | OK | ![]() | |||||||||||||||||||||||||||||
113/398 | etec16s 1.18.0 (landing page) | Joseph N. Paulson | OK | OK | OK | ![]() | |||||||||||||||||||||||||||||
|
| ||||||||||||||||||||||||||||||||||
Package | Maintainer | INSTALL | BUILD | CHECK | |||||||||||||||||||||||||||||||
114/398 | faahKO 1.30.0 (landing page) | Steffen Neumann | OK | OK | OK | ![]() | |||||||||||||||||||||||||||||
115/398 | fabiaData 1.28.0 (landing page) | Sepp Hochreiter | OK | OK | OK | ![]() | |||||||||||||||||||||||||||||
116/398 | facsDorit 1.32.0 (landing page) | Florian Hahne | OK | OK | WARNINGS | ![]() | |||||||||||||||||||||||||||||
117/398 | FANTOM3and4CAGE 1.26.0 (landing page) | Vanja Haberle | OK | OK | OK | ![]() | |||||||||||||||||||||||||||||
118/398 | ffpeExampleData 1.28.0 (landing page) | Levi Waldron | OK | OK | OK | ![]() | |||||||||||||||||||||||||||||
119/398 | fibroEset 1.32.0 (landing page) | Sylvia Merk | OK | OK | WARNINGS | ![]() | |||||||||||||||||||||||||||||
120/398 | FieldEffectCrc 1.0.0 (landing page) | Christopher Dampier | OK | OK | OK | ![]() | |||||||||||||||||||||||||||||
121/398 | FIs 1.18.0 (landing page) | Herbert Braselmann | OK | OK | OK | ![]() | |||||||||||||||||||||||||||||
122/398 | fission 1.10.0 (landing page) | Michael Love | OK | OK | OK | ![]() | |||||||||||||||||||||||||||||
123/398 | Fletcher2013a 1.26.0 (landing page) | Mauro Castro | OK | OK | OK | ![]() | |||||||||||||||||||||||||||||
124/398 | Fletcher2013b 1.26.0 (landing page) | Mauro Castro | OK | OK | OK | ![]() | |||||||||||||||||||||||||||||
125/398 | Davide Rambaldi | OK | OK | WARNINGS | ![]() | ||||||||||||||||||||||||||||||
126/398 | flowPloidyData 1.16.0 (landing page) | Tyler Smith | OK | OK | OK | ![]() | |||||||||||||||||||||||||||||
127/398 | FlowSorted.Blood.450k 1.28.0 (landing page) | Andrew E Jaffe | OK | OK | OK | ![]() | |||||||||||||||||||||||||||||
128/398 | FlowSorted.Blood.EPIC 1.8.0 (landing page) | Lucas A. Salas | OK | OK | OK | ![]() | |||||||||||||||||||||||||||||
129/398 | FlowSorted.CordBlood.450k 1.18.0 (landing page) | Shan V. Andrews | OK | OK | OK | ![]() | |||||||||||||||||||||||||||||
130/398 | FlowSorted.CordBloodCombined.450k 1.6.0 (landing page) | Lucas A. Salas | OK | OK | OK | ![]() | |||||||||||||||||||||||||||||
131/398 | FlowSorted.CordBloodNorway.450k 1.16.0 (landing page) | kristina gervin | OK | OK | OK | ![]() | |||||||||||||||||||||||||||||
132/398 | FlowSorted.DLPFC.450k 1.26.0 (landing page) | Andrew E Jaffe | OK | OK | OK | ![]() | |||||||||||||||||||||||||||||
133/398 | flowWorkspaceData 3.2.0 (landing page) | Mike Jiang | OK | OK | OK | ![]() | |||||||||||||||||||||||||||||
134/398 | frmaExampleData 1.26.0 (landing page) | Matthew N. McCall | OK | OK | WARNINGS | ![]() | |||||||||||||||||||||||||||||
135/398 | Simon G. Coetzee | OK | OK | ERROR | |||||||||||||||||||||||||||||||
136/398 | furrowSeg 1.18.0 (landing page) | Joseph Barry | OK | OK | WARNINGS | ![]() | |||||||||||||||||||||||||||||
|
| ||||||||||||||||||||||||||||||||||
Package | Maintainer | INSTALL | BUILD | CHECK | |||||||||||||||||||||||||||||||
137/398 | gageData 2.28.0 (landing page) | Weijun Luo | OK | OK | OK | ![]() | |||||||||||||||||||||||||||||
138/398 | gaschYHS 1.28.0 (landing page) | Vince Carey | OK | OK | OK | ![]() | |||||||||||||||||||||||||||||
139/398 | gatingMLData 2.30.0 (landing page) | J. Spidlen | OK | OK | OK | ![]() | |||||||||||||||||||||||||||||
140/398 | gcspikelite 1.28.0 (landing page) | Mark Robinson | OK | OK | WARNINGS | ![]() | |||||||||||||||||||||||||||||
141/398 | geneLenDataBase 1.26.0 (landing page) | Matthew Young | OK | OK | WARNINGS | ![]() | |||||||||||||||||||||||||||||
142/398 | genomationData 1.22.0 (landing page) | Vedran Franke | OK | OK | OK | ![]() | |||||||||||||||||||||||||||||
143/398 | GeuvadisTranscriptExpr 1.18.0 (landing page) | Malgorzata Nowicka | OK | OK | OK | ![]() | |||||||||||||||||||||||||||||
144/398 | VJ Carey | OK | OK | WARNINGS | ![]() | ||||||||||||||||||||||||||||||
145/398 | VJ Carey | ERROR | ERROR | skipped | |||||||||||||||||||||||||||||||
146/398 | VJ Carey | OK | OK | WARNINGS | ![]() | ||||||||||||||||||||||||||||||
147/398 | GIGSEAdata 1.8.0 (landing page) | Shijia Zhu | OK | OK | OK | ![]() | |||||||||||||||||||||||||||||
148/398 | golubEsets 1.32.0 (landing page) | Vince Carey | OK | OK | OK | ![]() | |||||||||||||||||||||||||||||
149/398 | gpaExample 1.2.0 (landing page) | Dongjun Chung | OK | OK | OK | ![]() | |||||||||||||||||||||||||||||
150/398 | grndata 1.22.0 (landing page) | Pau Bellot | OK | OK | OK | ![]() | |||||||||||||||||||||||||||||
151/398 | GSBenchMark 1.10.0 (landing page) | Bahman Afsari | OK | OK | OK | ![]() | |||||||||||||||||||||||||||||
152/398 | GSE62944 1.18.0 (landing page) | Bioconductor Package Maintainer | OK | OK | OK | ![]() | |||||||||||||||||||||||||||||
153/398 | gskb 1.22.0 (landing page) | Valerie Bares | OK | OK | OK | ![]() | |||||||||||||||||||||||||||||
154/398 | GSVAdata 1.26.0 (landing page) | Robert Castelo | OK | OK | OK | ![]() | |||||||||||||||||||||||||||||
155/398 | GWASdata 1.28.0 (landing page) | Stephanie Gogarten | OK | OK | OK | ![]() | |||||||||||||||||||||||||||||
|
| ||||||||||||||||||||||||||||||||||
Package | Maintainer | INSTALL | BUILD | CHECK | |||||||||||||||||||||||||||||||
156/398 | h5vcData 2.10.0 (landing page) | Paul Theodor Pyl | OK | OK | OK | ![]() | |||||||||||||||||||||||||||||
157/398 | hapmap100khind 1.32.0 (landing page) | Benilton Carvalho | OK | OK | OK | ![]() | |||||||||||||||||||||||||||||
158/398 | hapmap100kxba 1.32.0 (landing page) | Benilton Carvalho | OK | OK | OK | ![]() | |||||||||||||||||||||||||||||
159/398 | hapmap500knsp 1.32.0 (landing page) | Benilton Carvalho | OK | OK | OK | ![]() | |||||||||||||||||||||||||||||
160/398 | hapmap500ksty 1.32.0 (landing page) | Benilton Carvalho | OK | OK | OK | ![]() | |||||||||||||||||||||||||||||
161/398 | hapmapsnp5 1.32.0 (landing page) | Benilton Carvalho | OK | OK | OK | ![]() | |||||||||||||||||||||||||||||
162/398 | hapmapsnp6 1.32.0 (landing page) | Benilton Carvalho | OK | OK | OK | ![]() | |||||||||||||||||||||||||||||
163/398 | harbChIP 1.28.0 (landing page) | VJ Carey | OK | OK | OK | ![]() | |||||||||||||||||||||||||||||
164/398 | HarmanData 1.18.0 (landing page) | Jason Ross | OK | OK | OK | ![]() | |||||||||||||||||||||||||||||
165/398 | HarmonizedTCGAData 1.12.0 (landing page) | Tianle Ma | OK | OK | OK | ![]() | |||||||||||||||||||||||||||||
166/398 | HCAData 1.6.0 (landing page) | Federico Marini | OK | OK | OK | ![]() | |||||||||||||||||||||||||||||
167/398 | HD2013SGI 1.30.0 (landing page) | Bernd Fischer | OK | OK | OK | ![]() | |||||||||||||||||||||||||||||
168/398 | HDCytoData 1.10.0 (landing page) | Lukas M. Weber | OK | OK | OK | ![]() | |||||||||||||||||||||||||||||
169/398 | healthyFlowData 1.28.0 (landing page) | Ariful Azad | OK | OK | OK | ![]() | |||||||||||||||||||||||||||||
170/398 | HEEBOdata 1.28.0 (landing page) | Agnes Paquet | OK | OK | WARNINGS | ![]() | |||||||||||||||||||||||||||||
171/398 | HelloRangesData 1.16.0 (landing page) | Michael Lawrence | OK | OK | OK | ![]() | |||||||||||||||||||||||||||||
172/398 | hgu133abarcodevecs 1.28.0 (landing page) | Matthew N. McCall | OK | OK | OK | ![]() | |||||||||||||||||||||||||||||
173/398 | hgu133plus2barcodevecs 1.28.0 (landing page) | Matthew N. McCall | OK | OK | OK | ![]() | |||||||||||||||||||||||||||||
174/398 | hgu133plus2CellScore 1.10.0 (landing page) | Nancy Mah | OK | OK | OK | ![]() | |||||||||||||||||||||||||||||
175/398 | hgu2beta7 1.30.0 (landing page) | Bioconductor Package Maintainer | OK | OK | WARNINGS | ![]() | |||||||||||||||||||||||||||||
176/398 | HiCDataHumanIMR90 1.10.0 (landing page) | Nicolas Servant | OK | OK | OK | ![]() | |||||||||||||||||||||||||||||
177/398 | HiCDataLymphoblast 1.26.0 (landing page) | Borbala Mifsud | OK | OK | OK | ![]() | |||||||||||||||||||||||||||||
178/398 | HighlyReplicatedRNASeq 1.2.0 (landing page) | Constantin Ahlmann-Eltze | OK | OK | OK | ![]() | |||||||||||||||||||||||||||||
179/398 | Hiiragi2013 1.26.0 (landing page) | Andrzej Oles | OK | OK | OK | ![]() | |||||||||||||||||||||||||||||
180/398 | HIVcDNAvantWout03 1.30.0 (landing page) | Chris Fraley | OK | OK | WARNINGS | ![]() | |||||||||||||||||||||||||||||
181/398 | HMP16SData 1.10.0 (landing page) | Lucas Schiffer | OK | OK | OK | ![]() | |||||||||||||||||||||||||||||
182/398 | HMP2Data 1.4.0 (landing page) | John Stansfield | OK | OK | OK | ![]() | |||||||||||||||||||||||||||||
183/398 | hmyriB36 1.26.0 (landing page) | Vincent Carey | OK | OK | WARNINGS | ![]() | |||||||||||||||||||||||||||||
184/398 | HSMMSingleCell 1.10.0 (landing page) | Cole Trapnell | OK | OK | WARNINGS | ![]() | |||||||||||||||||||||||||||||
185/398 | HumanAffyData 1.16.0 (landing page) | Brad Nelms | OK | OK | OK | ![]() | |||||||||||||||||||||||||||||
186/398 | humanStemCell 0.30.0 (landing page) | R. Gentleman | OK | OK | WARNINGS | ![]() | |||||||||||||||||||||||||||||
|
| ||||||||||||||||||||||||||||||||||
Package | Maintainer | INSTALL | BUILD | CHECK | |||||||||||||||||||||||||||||||
187/398 | IHWpaper 1.18.0 (landing page) | Nikos Ignatiadis | OK | OK | ERROR | ||||||||||||||||||||||||||||||
188/398 | Illumina450ProbeVariants.db 1.26.0 (landing page) | Tiffany Morris | OK | OK | OK | ![]() | |||||||||||||||||||||||||||||
189/398 | IlluminaDataTestFiles 1.28.0 (landing page) | Kasper Daniel Hansen | OK | OK | OK | ![]() | |||||||||||||||||||||||||||||
190/398 | ITALICSData 2.28.0 (landing page) | Guillem Rigaill | OK | OK | WARNINGS | ![]() | |||||||||||||||||||||||||||||
191/398 | Iyer517 1.32.0 (landing page) | Vince Carey | OK | OK | OK | ![]() | |||||||||||||||||||||||||||||
|
| ||||||||||||||||||||||||||||||||||
Package | Maintainer | INSTALL | BUILD | CHECK | |||||||||||||||||||||||||||||||
192/398 | JASPAR2014 1.26.0 (landing page) | Ge Tan | OK | OK | OK | ![]() | |||||||||||||||||||||||||||||
193/398 | JASPAR2016 1.18.0 (landing page) | Ge Tan | OK | OK | OK | ![]() | |||||||||||||||||||||||||||||
194/398 | JctSeqData 1.20.0 (landing page) | Stephen Hartley | OK | OK | OK | ![]() | |||||||||||||||||||||||||||||
|
| ||||||||||||||||||||||||||||||||||
Package | Maintainer | INSTALL | BUILD | CHECK | |||||||||||||||||||||||||||||||
195/398 | KEGGandMetacoreDzPathwaysGEO 1.10.0 (landing page) | Gaurav Bhatti | OK | OK | OK | ![]() | |||||||||||||||||||||||||||||
196/398 | KEGGdzPathwaysGEO 1.28.0 (landing page) | Gaurav Bhatti | OK | OK | OK | ![]() | |||||||||||||||||||||||||||||
197/398 | kidpack 1.32.0 (landing page) | Wolfgang Huber | OK | OK | WARNINGS | ![]() | |||||||||||||||||||||||||||||
198/398 | KOdata 1.16.0 (landing page) | Shana White | OK | OK | OK | ![]() | |||||||||||||||||||||||||||||
|
| ||||||||||||||||||||||||||||||||||
Package | Maintainer | INSTALL | BUILD | CHECK | |||||||||||||||||||||||||||||||
199/398 | leeBamViews 1.26.0 (landing page) | VJ Carey | OK | OK | OK | ![]() | |||||||||||||||||||||||||||||
200/398 | leukemiasEset 1.26.0 (landing page) | Sara Aibar | OK | OK | OK | ![]() | |||||||||||||||||||||||||||||
201/398 | LiebermanAidenHiC2009 0.28.0 (landing page) | Felix Klein | OK | OK | WARNINGS | ![]() | |||||||||||||||||||||||||||||
202/398 | ListerEtAlBSseq 1.22.0 (landing page) | Kamal Kishore | OK | OK | WARNINGS | ![]() | |||||||||||||||||||||||||||||
203/398 | lumiBarnes 1.30.0 (landing page) | Pan Du | OK | OK | WARNINGS | ![]() | |||||||||||||||||||||||||||||
204/398 | LungCancerACvsSCCGEO 1.26.0 (landing page) | Adi Laurentiu Tarca | OK | OK | OK | ![]() | |||||||||||||||||||||||||||||
205/398 | LungCancerLines 0.28.0 (landing page) | Cory Barr | OK | OK | OK | ![]() | |||||||||||||||||||||||||||||
206/398 | lungExpression 0.28.0 (landing page) | Robert Scharpf | OK | OK | OK | ![]() | |||||||||||||||||||||||||||||
207/398 | lydata 1.16.0 (landing page) | Alex Pickering | OK | OK | OK | ![]() | |||||||||||||||||||||||||||||
|
| ||||||||||||||||||||||||||||||||||
Package | Maintainer | INSTALL | BUILD | CHECK | |||||||||||||||||||||||||||||||
208/398 | M3DExampleData 1.16.0 (landing page) | Tallulah Andrews | OK | OK | WARNINGS | ![]() | |||||||||||||||||||||||||||||
209/398 | macrophage 1.6.0 (landing page) | Michael Love | OK | OK | OK | ![]() | |||||||||||||||||||||||||||||
210/398 | mammaPrintData 1.26.0 (landing page) | Luigi Marchionni | OK | OK | OK | ![]() | |||||||||||||||||||||||||||||
211/398 | mAPKLData 1.22.0 (landing page) | Argiris Sakellariou | OK | OK | WARNINGS | ![]() | |||||||||||||||||||||||||||||
212/398 | maqcExpression4plex 1.34.0 (landing page) | Benilton Carvalho | OK | OK | OK | ![]() | |||||||||||||||||||||||||||||
213/398 | MAQCsubset 1.28.0 (landing page) | VJ Carey | OK | OK | OK | ![]() | |||||||||||||||||||||||||||||
214/398 | MAQCsubsetAFX 1.28.0 (landing page) | Laurent Gatto | OK | OK | OK | ![]() | |||||||||||||||||||||||||||||
215/398 | MAQCsubsetILM 1.28.0 (landing page) | Laurent Gatto | OK | OK | OK | ![]() | |||||||||||||||||||||||||||||
216/398 | mCSEAdata 1.10.1 (landing page) | Jordi Martorell MarugƔn | OK | OK | OK | ![]() | |||||||||||||||||||||||||||||
217/398 | mcsurvdata 1.8.0 (landing page) | Adria Caballe Mestres | OK | OK | OK | ![]() | |||||||||||||||||||||||||||||
218/398 | MEDIPSData 1.26.0 (landing page) | Lukas Chavez | OK | OK | WARNINGS | ![]() | |||||||||||||||||||||||||||||
219/398 | MEEBOdata 1.28.0 (landing page) | Agnes Paquet | OK | OK | WARNINGS | ![]() | |||||||||||||||||||||||||||||
220/398 | MetaGxBreast 1.10.1 (landing page) | Benjamin Haibe-Kains | OK | OK | OK | ![]() | |||||||||||||||||||||||||||||
221/398 | MetaGxOvarian 1.10.0 (landing page) | Michael Zon | OK | OK | WARNINGS | ![]() | |||||||||||||||||||||||||||||
222/398 | MetaGxPancreas 1.10.0 (landing page) | Michael Zon | OK | OK | OK | ![]() | |||||||||||||||||||||||||||||
223/398 | metaMSdata 1.26.0 (landing page) | Yann Guitton | OK | OK | OK | ![]() | |||||||||||||||||||||||||||||
224/398 | MethylAidData 1.22.0 (landing page) | M. van Iterson | OK | OK | OK | ![]() | |||||||||||||||||||||||||||||
225/398 | MethylSeqData 1.0.0 (landing page) | Peter Hickey | OK | OK | OK | ![]() | |||||||||||||||||||||||||||||
226/398 | Nima Hejazi | OK | OK | WARNINGS | ![]() | ||||||||||||||||||||||||||||||
227/398 | microRNAome 1.12.0 (landing page) | Matthew N. McCall | OK | OK | OK | ![]() | |||||||||||||||||||||||||||||
228/398 | MIGSAdata 1.14.0 (landing page) | Juan C. Rodriguez | OK | OK | OK | ![]() | |||||||||||||||||||||||||||||
229/398 | minfiData 0.36.0 (landing page) | Kasper Daniel Hansen | OK | OK | OK | ![]() | |||||||||||||||||||||||||||||
230/398 | minfiDataEPIC 1.16.0 (landing page) | Kasper Daniel Hansen | OK | OK | OK | ![]() | |||||||||||||||||||||||||||||
231/398 | minionSummaryData 1.20.0 (landing page) | Mike Smith | OK | OK | OK | ![]() | |||||||||||||||||||||||||||||
232/398 | miRcompData 1.20.0 (landing page) | Matthew N. McCall | OK | OK | OK | ![]() | |||||||||||||||||||||||||||||
233/398 | miRNATarget 1.28.0 (landing page) | Y-h. Taguchi | OK | OK | OK | ![]() | |||||||||||||||||||||||||||||
234/398 | Gregoire Pau | OK | OK | WARNINGS | ![]() | ||||||||||||||||||||||||||||||
235/398 | MMAPPR2data 1.4.0 (landing page) | Jonathon Hill | OK | OK | OK | ![]() | |||||||||||||||||||||||||||||
236/398 | MMDiffBamSubset 1.26.0 (landing page) | Gabriele Schweikert | OK | OK | OK | ![]() | |||||||||||||||||||||||||||||
237/398 | MOFAdata 1.6.0 (landing page) | Britta Velten | OK | OK | OK | ![]() | |||||||||||||||||||||||||||||
238/398 | mosaicsExample 1.28.0 (landing page) | Dongjun Chung | OK | OK | OK | ![]() | |||||||||||||||||||||||||||||
239/398 | mouse4302barcodevecs 1.28.0 (landing page) | Matthew N. McCall | OK | OK | OK | ![]() | |||||||||||||||||||||||||||||
240/398 | MouseGastrulationData 1.4.0 (landing page) | Jonathan Griffiths | OK | OK | OK | ![]() | |||||||||||||||||||||||||||||
241/398 | msd16s 1.10.0 (landing page) | Joseph N. Paulson | OK | OK | OK | ![]() | |||||||||||||||||||||||||||||
242/398 | msdata 0.30.0 (landing page) | Steffen Neumann | OK | OK | OK | ![]() | |||||||||||||||||||||||||||||
243/398 | MSMB 1.8.0 (landing page) | Wolfgang Huber | OK | OK | WARNINGS | ![]() | |||||||||||||||||||||||||||||
244/398 | msPurityData 1.18.0 (landing page) | Thomas N. Lawson | OK | OK | OK | ![]() | |||||||||||||||||||||||||||||
245/398 | msqc1 1.18.0 (landing page) | Christian Panse | OK | OK | OK | ![]() | |||||||||||||||||||||||||||||
246/398 | MSstatsBioData 1.12.0 (landing page) | Meena Choi | OK | OK | WARNINGS | ![]() | |||||||||||||||||||||||||||||
247/398 | mtbls2 1.20.1 (landing page) | Steffen Neumann | OK | OK | OK | ![]() | |||||||||||||||||||||||||||||
248/398 | MUGAExampleData 1.10.0 (landing page) | Daniel Gatti | OK | OK | OK | ![]() | |||||||||||||||||||||||||||||
249/398 | Xin Wang | ERROR | ERROR | skipped | |||||||||||||||||||||||||||||||
250/398 | muscData 1.4.0 (landing page) | Helena L. Crowell | OK | OK | WARNINGS | ![]() | |||||||||||||||||||||||||||||
251/398 | mvoutData 1.26.0 (landing page) | VJ Carey | OK | OK | OK | ![]() | |||||||||||||||||||||||||||||
|
| ||||||||||||||||||||||||||||||||||
Package | Maintainer | INSTALL | BUILD | CHECK | |||||||||||||||||||||||||||||||
252/398 | NanoporeRNASeq 1.0.0 (landing page) | Ying Chen Developer | OK | OK | OK | ![]() | |||||||||||||||||||||||||||||
253/398 | nanotubes 1.6.0 (landing page) | Malte Thodberg | OK | OK | OK | ![]() | |||||||||||||||||||||||||||||
254/398 | NCIgraphData 1.26.0 (landing page) | Laurent Jacob | OK | OK | WARNINGS | ![]() | |||||||||||||||||||||||||||||
255/398 | NestLink 1.6.0 (landing page) | Lennart Opitz | OK | OK | OK | ![]() | |||||||||||||||||||||||||||||
256/398 | Neve2006 0.28.0 (landing page) | VJ Carey | OK | OK | OK | ![]() | |||||||||||||||||||||||||||||
257/398 | NGScopyData 1.10.0 (landing page) | Xiaobei Zhao | OK | OK | OK | ![]() | |||||||||||||||||||||||||||||
|
| ||||||||||||||||||||||||||||||||||
Package | Maintainer | INSTALL | BUILD | CHECK | |||||||||||||||||||||||||||||||
258/398 | oct4 1.6.0 (landing page) | Michael Love | OK | OK | OK | ![]() | |||||||||||||||||||||||||||||
259/398 | OMICsPCAdata 1.8.0 (landing page) | Subhadeep Das | OK | OK | OK | ![]() | |||||||||||||||||||||||||||||
260/398 | OnassisJavaLibs 1.12.0 (landing page) | Eugenia Galeota | OK | OK | OK | ![]() | |||||||||||||||||||||||||||||
261/398 | optimalFlowData 1.2.0 (landing page) | Hristo Inouzhe | OK | OK | OK | ![]() | |||||||||||||||||||||||||||||
|
| ||||||||||||||||||||||||||||||||||
Package | Maintainer | INSTALL | BUILD | CHECK | |||||||||||||||||||||||||||||||
262/398 | parathyroidSE 1.28.0 (landing page) | Michael Love | OK | OK | OK | ![]() | |||||||||||||||||||||||||||||
263/398 | pasilla 1.18.1 (landing page) | Alejandro Reyes | OK | OK | WARNINGS | ![]() | |||||||||||||||||||||||||||||
264/398 | pasillaBamSubset 0.28.0 (landing page) | Hervé Pagès | OK | OK | OK | ![]() | |||||||||||||||||||||||||||||
265/398 | PasillaTranscriptExpr 1.18.0 (landing page) | Malgorzata Nowicka | OK | OK | OK | ![]() | |||||||||||||||||||||||||||||
266/398 | PathNetData 1.26.0 (landing page) | Ludwig Geistlinger | OK | OK | OK | ![]() | |||||||||||||||||||||||||||||
267/398 | Sokratis Kariotis | OK | OK | WARNINGS | ![]() | ||||||||||||||||||||||||||||||
268/398 | Morten Hansen | OK | OK | WARNINGS | ![]() | ||||||||||||||||||||||||||||||
269/398 | Morten Hansen | OK | OK | WARNINGS | ![]() | ||||||||||||||||||||||||||||||
270/398 | Morten Hansen, | OK | OK | WARNINGS | ![]() | ||||||||||||||||||||||||||||||
271/398 | PCHiCdata 1.18.0 (landing page) | Paula Freire-Pritchett | OK | OK | OK | ![]() | |||||||||||||||||||||||||||||
272/398 | pcxnData 2.12.0 (landing page) | Sokratis Kariotis | OK | OK | WARNINGS | ![]() | |||||||||||||||||||||||||||||
273/398 | pd.atdschip.tiling 0.28.0 (landing page) | Kristof De Beuf | OK | OK | WARNINGS | ![]() | |||||||||||||||||||||||||||||
274/398 | pepDat 1.10.0 (landing page) | Renan Sauteraud | OK | OK | OK | ![]() | |||||||||||||||||||||||||||||
275/398 | PepsNMRData 1.8.0 (landing page) | Manon Martin | OK | OK | OK | ![]() | |||||||||||||||||||||||||||||
276/398 | PhyloProfileData 1.4.0 (landing page) | Vinh Tran | OK | OK | OK | ![]() | |||||||||||||||||||||||||||||
277/398 | plasFIA 1.18.0 (landing page) | Alexis Delabriere | OK | OK | WARNINGS | ![]() | |||||||||||||||||||||||||||||
278/398 | ppiData 0.28.0 (landing page) | Bioconductor Package Maintainer | OK | OK | WARNINGS | ![]() | |||||||||||||||||||||||||||||
279/398 | prebsdata 1.26.0 (landing page) | Karolis Uziela | OK | OK | OK | ![]() | |||||||||||||||||||||||||||||
280/398 | PREDAsampledata 0.30.0 (landing page) | Francesco Ferrari | OK | OK | OK | ![]() | |||||||||||||||||||||||||||||
281/398 | ProData 1.28.0 (landing page) | Xiaochun Li | OK | OK | OK | ![]() | |||||||||||||||||||||||||||||
282/398 | pRolocdata 1.28.0 (landing page) | Laurent Gatto | OK | OK | OK | ![]() | |||||||||||||||||||||||||||||
283/398 | prostateCancerCamcap 1.18.0 (landing page) | Mark Dunning | OK | OK | OK | ![]() | |||||||||||||||||||||||||||||
284/398 | prostateCancerGrasso 1.18.0 (landing page) | Mark Dunning | OK | OK | OK | ![]() | |||||||||||||||||||||||||||||
285/398 | prostateCancerStockholm 1.18.0 (landing page) | Mark Dunning | OK | OK | OK | ![]() | |||||||||||||||||||||||||||||
286/398 | prostateCancerTaylor 1.18.0 (landing page) | Mark Dunning | OK | OK | OK | ![]() | |||||||||||||||||||||||||||||
287/398 | prostateCancerVarambally 1.18.0 (landing page) | Mark Dunning | OK | OK | OK | ![]() | |||||||||||||||||||||||||||||
288/398 | PtH2O2lipids 1.16.0 (landing page) | James Collins | OK | OK | WARNINGS | ![]() | |||||||||||||||||||||||||||||
289/398 | pumadata 2.26.0 (landing page) | Xuejun liu | OK | OK | OK | ![]() | |||||||||||||||||||||||||||||
290/398 | PWMEnrich.Dmelanogaster.background 4.24.0 (landing page) | Diego Diez | OK | OK | WARNINGS | ![]() | |||||||||||||||||||||||||||||
291/398 | PWMEnrich.Hsapiens.background 4.24.0 (landing page) | Diego Diez | OK | OK | WARNINGS | ![]() | |||||||||||||||||||||||||||||
292/398 | PWMEnrich.Mmusculus.background 4.24.0 (landing page) | Diego Diez | OK | OK | OK | ![]() | |||||||||||||||||||||||||||||
293/398 | pwrEWAS.data 1.4.0 (landing page) | Stefan Graw | OK | OK | OK | ![]() | |||||||||||||||||||||||||||||
|
| ||||||||||||||||||||||||||||||||||
Package | Maintainer | INSTALL | BUILD | CHECK | |||||||||||||||||||||||||||||||
294/398 | QDNAseq.hg19 1.20.0 (landing page) | Daoud Sie | OK | OK | OK | ![]() | |||||||||||||||||||||||||||||
295/398 | QDNAseq.mm10 1.20.0 (landing page) | Daoud Sie | OK | OK | OK | ![]() | |||||||||||||||||||||||||||||
296/398 | qPLEXdata 1.8.0 (landing page) | Kamal Kishore Developer | OK | OK | WARNINGS | ![]() | |||||||||||||||||||||||||||||
297/398 | QUBICdata 1.18.0 (landing page) | Yu Zhang | OK | OK | OK | ![]() | |||||||||||||||||||||||||||||
|
| ||||||||||||||||||||||||||||||||||
Package | Maintainer | INSTALL | BUILD | CHECK | |||||||||||||||||||||||||||||||
298/398 | rcellminerData 2.12.0 (landing page) | Augustin Luna | OK | OK | WARNINGS | ![]() | |||||||||||||||||||||||||||||
299/398 | RcisTarget.hg19.motifDBs.cisbpOnly.500bp 1.10.0 (landing page) | Sara Aibar | OK | OK | OK | ![]() | |||||||||||||||||||||||||||||
300/398 | ReactomeGSA.data 1.4.0 (landing page) | Johannes Griss | OK | OK | OK | ![]() | |||||||||||||||||||||||||||||
301/398 | RegParallel 1.8.0 (landing page) | Kevin Blighe | OK | OK | OK | ![]() | |||||||||||||||||||||||||||||
302/398 | restfulSEData 1.12.0 (landing page) | Bioconductor Package Maintainer | OK | OK | OK | ![]() | |||||||||||||||||||||||||||||
303/398 | RforProteomics 1.28.1 (landing page) | Laurent Gatto | OK | ERROR | skipped | ||||||||||||||||||||||||||||||
304/398 | RGMQLlib 1.10.0 (landing page) | Simone Pallotta | OK | OK | OK | ![]() | |||||||||||||||||||||||||||||
305/398 | rheumaticConditionWOLLBOLD 1.28.0 (landing page) | Alejandro Quiroz-Zarate | OK | OK | OK | ![]() | |||||||||||||||||||||||||||||
306/398 | RITANdata 1.14.0 (landing page) | Michael Zimmermann | OK | OK | OK | ![]() | |||||||||||||||||||||||||||||
307/398 | RMassBankData 1.28.0 (landing page) | Michael Stravs, Emma Schymanski | OK | OK | OK | ![]() | |||||||||||||||||||||||||||||
308/398 | RNAinteractMAPK 1.28.2 (landing page) | Mike Smith | OK | OK | OK | ![]() | |||||||||||||||||||||||||||||
309/398 | RNAmodR.Data 1.4.0 (landing page) | Felix G.M. Ernst | OK | OK | OK | ![]() | |||||||||||||||||||||||||||||
310/398 | RNAseqData.HNRNPC.bam.chr14 0.28.0 (landing page) | Hervé Pagès | OK | OK | OK | ![]() | |||||||||||||||||||||||||||||
311/398 | RNASeqRData 1.8.0 (landing page) | Kuan-Hao Chao | OK | OK | OK | ![]() | |||||||||||||||||||||||||||||
312/398 | RnaSeqSampleSizeData 1.22.0 (landing page) | Shilin Zhao | OK | OK | OK | ![]() | |||||||||||||||||||||||||||||
313/398 | RnBeads.hg19 1.22.0 (landing page) | RnBeadsAnnotationCreator | OK | OK | WARNINGS | ![]() | |||||||||||||||||||||||||||||
314/398 | RnBeads.hg38 1.22.0 (landing page) | RnBeadsAnnotationCreator | OK | OK | OK | ![]() | |||||||||||||||||||||||||||||
315/398 | RnBeads.mm10 1.22.0 (landing page) | RnBeadsAnnotationCreator | OK | OK | OK | ![]() | |||||||||||||||||||||||||||||
316/398 | RnBeads.mm9 1.22.0 (landing page) | RnBeadsAnnotationCreator | OK | OK | WARNINGS | ![]() | |||||||||||||||||||||||||||||
317/398 | RnBeads.rn5 1.22.0 (landing page) | RnBeadsAnnotationCreator | OK | OK | OK | ![]() | |||||||||||||||||||||||||||||
318/398 | RRBSdata 1.10.0 (landing page) | Katja Hebestreit | OK | OK | OK | ![]() | |||||||||||||||||||||||||||||
319/398 | rRDPData 1.10.0 (landing page) | Michael Hahsler | OK | OK | OK | ![]() | |||||||||||||||||||||||||||||
320/398 | RTCGA.clinical 20151101.20.0 (landing page) | Marcin Kosinski | OK | OK | OK | ![]() | |||||||||||||||||||||||||||||
321/398 | RTCGA.CNV 1.18.0 (landing page) | Marcin Kosinski | OK | OK | OK | ![]() | |||||||||||||||||||||||||||||
322/398 | RTCGA.methylation 1.18.0 (landing page) | Marcin Kosinski | OK | OK | OK | ![]() | |||||||||||||||||||||||||||||
323/398 | RTCGA.miRNASeq 1.18.0 (landing page) | Marcin Kosinski | OK | OK | OK | ![]() | |||||||||||||||||||||||||||||
324/398 | RTCGA.mRNA 1.18.0 (landing page) | Marcin Kosinski | OK | OK | OK | ![]() | |||||||||||||||||||||||||||||
325/398 | RTCGA.mutations 20151101.20.0 (landing page) | Marcin Kosinski | OK | OK | OK | ![]() | |||||||||||||||||||||||||||||
326/398 | RTCGA.PANCAN12 1.18.0 (landing page) | Marcin Kosinski | OK | OK | OK | ![]() | |||||||||||||||||||||||||||||
327/398 | RTCGA.rnaseq 20151101.20.0 (landing page) | Marcin Kosinski | OK | OK | OK | ![]() | |||||||||||||||||||||||||||||
328/398 | RTCGA.RPPA 1.18.0 (landing page) | Marcin Kosinski | OK | OK | OK | ![]() | |||||||||||||||||||||||||||||
329/398 | RUVnormalizeData 1.10.0 (landing page) | Laurent Jacob | OK | OK | OK | ![]() | |||||||||||||||||||||||||||||
|
| ||||||||||||||||||||||||||||||||||
Package | Maintainer | INSTALL | BUILD | CHECK | |||||||||||||||||||||||||||||||
330/398 | sampleClassifierData 1.14.1 (landing page) | Khadija El Amrani | OK | OK | OK | ![]() | |||||||||||||||||||||||||||||
331/398 | SBGNview.data 1.4.1 (landing page) | Weijun Luo | OK | OK | OK | ![]() | |||||||||||||||||||||||||||||
332/398 | SCATEData 1.0.0 (landing page) | Wenpin Hou | OK | OK | OK | ![]() | |||||||||||||||||||||||||||||
333/398 | SCLCBam 1.22.0 (landing page) | Oscar Krijgsman | OK | OK | OK | ![]() | |||||||||||||||||||||||||||||
334/398 | scRNAseq 2.4.0 (landing page) | Aaron Lun | OK | OK | OK | ![]() | |||||||||||||||||||||||||||||
335/398 | scTHI.data 1.2.0 (landing page) | Michele Ceccarelli | OK | OK | OK | ![]() | |||||||||||||||||||||||||||||
336/398 | seq2pathway.data 1.22.0 (landing page) | Xinan Holly Yang | OK | OK | WARNINGS | ![]() | |||||||||||||||||||||||||||||
337/398 | seqc 1.24.0 (landing page) | Yang Liao | OK | OK | OK | ![]() | |||||||||||||||||||||||||||||
338/398 | seqCNA.annot 1.26.0 (landing page) | David Mosen-Ansorena | OK | OK | OK | ![]() | |||||||||||||||||||||||||||||
339/398 | serumStimulation 1.26.0 (landing page) | Morten Hansen, | OK | OK | OK | ![]() | |||||||||||||||||||||||||||||
340/398 | sesameData 1.8.10 (landing page) | Wanding Zhou | OK | OK | OK | ![]() | |||||||||||||||||||||||||||||
341/398 | seventyGeneData 1.26.0 (landing page) | Luigi Marchionni | OK | OK | OK | ![]() | |||||||||||||||||||||||||||||
342/398 | shinyMethylData 1.10.0 (landing page) | Jean-Philippe Fortin | OK | OK | OK | ![]() | |||||||||||||||||||||||||||||
343/398 | signatureSearchData 1.4.0 (landing page) | Yuzhu Duan | OK | OK | OK | ![]() | |||||||||||||||||||||||||||||
344/398 | simpIntLists 1.26.0 (landing page) | Kircicegi Korkmaz | OK | OK | WARNINGS | ![]() | |||||||||||||||||||||||||||||
345/398 | Single.mTEC.Transcriptomes 1.18.0 (landing page) | Alejandro Reyes | OK | OK | OK | ![]() | |||||||||||||||||||||||||||||
346/398 | SingleCellMultiModal 1.2.4 (landing page) | Marcel Ramos | OK | OK | OK | ![]() | |||||||||||||||||||||||||||||
347/398 | SNAData 1.36.0 (landing page) | Denise Scholtens | OK | OK | OK | ![]() | |||||||||||||||||||||||||||||
348/398 | SNAGEEdata 1.26.0 (landing page) | David Venet | OK | OK | OK | ![]() | |||||||||||||||||||||||||||||
349/398 | SNPhoodData 1.20.0 (landing page) | Christian Arnold | OK | OK | OK | ![]() | |||||||||||||||||||||||||||||
350/398 | SomatiCAData 1.28.0 (landing page) | Mengjie Chen | OK | OK | WARNINGS | ![]() | |||||||||||||||||||||||||||||
351/398 | SomaticCancerAlterations 1.26.0 (landing page) | Julian Gehring | OK | OK | WARNINGS | ![]() | |||||||||||||||||||||||||||||
352/398 | spatialLIBD 1.2.1 (landing page) | Leonardo Collado-Torres | OK | OK | OK | ![]() | |||||||||||||||||||||||||||||
353/398 | SpikeIn 1.32.0 (landing page) | Rafael A. Irizarry | OK | OK | WARNINGS | ![]() | |||||||||||||||||||||||||||||
354/398 | SpikeInSubset 1.30.0 (landing page) | Rafael A. Irizarry | OK | OK | WARNINGS | ![]() | |||||||||||||||||||||||||||||
355/398 | spqnData 1.2.0 (landing page) | Yi Wang | OK | OK | OK | ![]() | |||||||||||||||||||||||||||||
356/398 | stemHypoxia 1.26.0 (landing page) | Cristobal Fresno | OK | OK | OK | ![]() | |||||||||||||||||||||||||||||
357/398 | stjudem 1.30.0 (landing page) | Joern Toedling | OK | OK | OK | ![]() | |||||||||||||||||||||||||||||
358/398 | SVM2CRMdata 1.22.0 (landing page) | Guidantonio Malagoli Tagliazucchi | OK | OK | WARNINGS | ![]() | |||||||||||||||||||||||||||||
359/398 | synapterdata 1.28.0 (landing page) | Laurent Gatto | OK | OK | OK | ![]() | |||||||||||||||||||||||||||||
360/398 | systemPipeRdata 1.18.2 (landing page) | Thomas Girke | OK | OK | OK | ![]() | |||||||||||||||||||||||||||||
|
| ||||||||||||||||||||||||||||||||||
Package | Maintainer | INSTALL | BUILD | CHECK | |||||||||||||||||||||||||||||||
361/398 | TabulaMurisData 1.8.0 (landing page) | Charlotte Soneson | OK | OK | OK | ![]() | |||||||||||||||||||||||||||||
362/398 | TargetScoreData 1.26.0 (landing page) | Yue Li | OK | OK | OK | ![]() | |||||||||||||||||||||||||||||
363/398 | TargetSearchData 1.28.0 (landing page) | Alvaro Cuadros-Inostroza | OK | OK | OK | ![]() | |||||||||||||||||||||||||||||
364/398 | tartare 1.4.0 (landing page) | Christian Panse | OK | OK | OK | ![]() | |||||||||||||||||||||||||||||
365/398 | TBX20BamSubset 1.26.0 (landing page) | D. Bindreither | OK | OK | OK | ![]() | |||||||||||||||||||||||||||||
366/398 | TCGAbiolinksGUI.data 1.10.0 (landing page) | Tiago Chedraoui Silva | OK | OK | OK | ![]() | |||||||||||||||||||||||||||||
367/398 | TCGAcrcmiRNA 1.10.0 (landing page) | Claudio Isella | OK | OK | OK | ![]() | |||||||||||||||||||||||||||||
368/398 | TCGAcrcmRNA 1.10.0 (landing page) | Claudio Isella | OK | OK | OK | ![]() | |||||||||||||||||||||||||||||
369/398 | TCGAMethylation450k 1.26.0 (landing page) | Sean Davis | OK | OK | OK | ![]() | |||||||||||||||||||||||||||||
370/398 | tcgaWGBSData.hg19 1.8.0 (landing page) | Divy Kangeyan | OK | OK | OK | ![]() | |||||||||||||||||||||||||||||
371/398 | TCGAWorkflowData 1.14.0 (landing page) | Tiago Chedraoui Silva | OK | OK | WARNINGS | ![]() | |||||||||||||||||||||||||||||
372/398 | TENxBrainData 1.10.0 (landing page) | Bioconductor Package Maintainer | OK | OK | OK | ![]() | |||||||||||||||||||||||||||||
373/398 | TENxBUSData 1.4.0 (landing page) | Lambda Moses | OK | OK | OK | ![]() | |||||||||||||||||||||||||||||
374/398 | TENxPBMCData 1.8.0 (landing page) | Stephanie Hicks | OK | OK | OK | ![]() | |||||||||||||||||||||||||||||
375/398 | timecoursedata 1.0.0 (landing page) | Nelle Varoquaux | OK | OK | OK | ![]() | |||||||||||||||||||||||||||||
376/398 | TimerQuant 1.20.0 (landing page) | Joseph Barry | OK | OK | OK | ![]() | |||||||||||||||||||||||||||||
377/398 | tinesath1cdf 1.28.0 (landing page) | Tine Casneuf | OK | OK | WARNINGS | ![]() | |||||||||||||||||||||||||||||
378/398 | tinesath1probe 1.28.0 (landing page) | Tine Casneuf | OK | OK | WARNINGS | ![]() | |||||||||||||||||||||||||||||
379/398 | tissueTreg 1.10.0 (landing page) | Charles Imbusch | OK | OK | OK | ![]() | |||||||||||||||||||||||||||||
380/398 | TMExplorer 1.0.1 (landing page) | Erik Christensen | OK | OK | OK | ![]() | |||||||||||||||||||||||||||||
381/398 | tofsimsData 1.18.0 (landing page) | Lorenz Gerber | OK | OK | OK | ![]() | |||||||||||||||||||||||||||||
382/398 | topdownrdata 1.12.0 (landing page) | Sebastian Gibb | OK | OK | OK | ![]() | |||||||||||||||||||||||||||||
383/398 | tweeDEseqCountData 1.28.0 (landing page) | Juan R Gonzalez | OK | OK | OK | ![]() | |||||||||||||||||||||||||||||
384/398 | tximportData 1.18.0 (landing page) | Michael Love | OK | OK | OK | ![]() | |||||||||||||||||||||||||||||
|
| ||||||||||||||||||||||||||||||||||
Package | Maintainer | INSTALL | BUILD | CHECK | |||||||||||||||||||||||||||||||
385/398 | VariantToolsData 1.14.0 (landing page) | Michael Lawrence | OK | OK | WARNINGS | ![]() | |||||||||||||||||||||||||||||
386/398 | vulcandata 1.12.0 (landing page) | Federico M. Giorgi | OK | OK | OK | ![]() | |||||||||||||||||||||||||||||
|
| ||||||||||||||||||||||||||||||||||
Package | Maintainer | INSTALL | BUILD | CHECK | |||||||||||||||||||||||||||||||
387/398 | Kristof De Beuf | OK | OK | WARNINGS | ![]() | ||||||||||||||||||||||||||||||
388/398 | WES.1KG.WUGSC 1.22.0 (landing page) | Yuchao Jiang | OK | OK | OK | ![]() | |||||||||||||||||||||||||||||
389/398 | WGSmapp 1.2.0 (landing page) | Rujin Wang | OK | OK | OK | ![]() | |||||||||||||||||||||||||||||
|
| ||||||||||||||||||||||||||||||||||
Package | Maintainer | INSTALL | BUILD | CHECK | |||||||||||||||||||||||||||||||
390/398 | XhybCasneuf 1.28.0 (landing page) | Tineke Casneuf | OK | OK | WARNINGS | ![]() | |||||||||||||||||||||||||||||
|
| ||||||||||||||||||||||||||||||||||
Package | Maintainer | INSTALL | BUILD | CHECK | |||||||||||||||||||||||||||||||
391/398 | yeastCC 1.30.0 (landing page) | Sandrine Dudoit | OK | OK | WARNINGS | ![]() | |||||||||||||||||||||||||||||
392/398 | yeastExpData 0.36.0 (landing page) | R. Gentleman | OK | OK | WARNINGS | ![]() | |||||||||||||||||||||||||||||
393/398 | yeastGSData 0.28.0 (landing page) | R. Gentleman | OK | OK | WARNINGS | ![]() | |||||||||||||||||||||||||||||
394/398 | yeastNagalakshmi 1.26.0 (landing page) | Bioconductor Package Maintainer | OK | OK | OK | ![]() | |||||||||||||||||||||||||||||
395/398 | yeastRNASeq 0.28.0 (landing page) | J. Bullard | OK | OK | WARNINGS | ![]() | |||||||||||||||||||||||||||||
396/398 | yri1kgv 0.32.0 (landing page) | VJ Carey | OK | OK | WARNINGS | ![]() | |||||||||||||||||||||||||||||
397/398 | VJ Carey | ERROR | ERROR | skipped | |||||||||||||||||||||||||||||||
|
| ||||||||||||||||||||||||||||||||||
Package | Maintainer | INSTALL | BUILD | CHECK | |||||||||||||||||||||||||||||||
398/398 | zebrafishRNASeq 1.10.0 (landing page) | Davide Risso | OK | OK | OK | ![]() |