* using log directory '/extra/loc/biocbuild/build-area/bioc-1.7/buildSandbox/checkOutput/rflowcyt.Rcheck'
* using R version 2.2.0, 2005-10-07 
* checking for file 'rflowcyt/DESCRIPTION' ... OK
* this is package 'rflowcyt' version '1.2.0'
* checking if this is a source package ... OK
* checking whether package 'rflowcyt' can be installed ... OK
* checking package directory ... OK
* checking for portable file names ... OK
* checking for sufficient/correct file permissions ... OK
* checking DESCRIPTION meta-information ... OK
* checking package dependencies ... OK
* checking index information ... OK
* checking package subdirectories ... OK
* checking R files for syntax errors ... OK
* checking R files for library.dynam ... OK
* checking S3 generic/method consistency ... OK
* checking replacement functions ... OK
* checking foreign function calls ... OK
* checking Rd files ... OK
* checking for missing documentation entries ... OK
* checking for code/documentation mismatches ... OK
* checking Rd \usage sections ... OK
* creating rflowcyt-Ex.R ... OK
* checking examples ... OK
* checking package vignettes in 'inst/doc' ... OK
* creating rflowcyt-manual.tex ... OK
* checking rflowcyt-manual.tex ... OK